BEGIN:VCALENDAR
VERSION:2.0
PRODID:-//Musikschulverband Heidenreichstein - ECPv6.0.13//NONSGML v1.0//EN
CALSCALE:GREGORIAN
METHOD:PUBLISH
X-WR-CALNAME:Musikschulverband Heidenreichstein
X-ORIGINAL-URL:https://musikschule.heidenreichstein.gv.at
X-WR-CALDESC:Veranstaltungen für Musikschulverband Heidenreichstein
REFRESH-INTERVAL;VALUE=DURATION:PT1H
X-Robots-Tag:noindex
X-PUBLISHED-TTL:PT1H
BEGIN:VTIMEZONE
TZID:Europe/Vienna
BEGIN:DAYLIGHT
TZOFFSETFROM:+0100
TZOFFSETTO:+0200
TZNAME:CEST
DTSTART:20220327T010000
END:DAYLIGHT
BEGIN:STANDARD
TZOFFSETFROM:+0200
TZOFFSETTO:+0100
TZNAME:CET
DTSTART:20221030T010000
END:STANDARD
END:VTIMEZONE
BEGIN:VEVENT
DTSTART;TZID=Europe/Vienna:20220626T140000
DTEND;TZID=Europe/Vienna:20220626T160000
DTSTAMP:20260421T063253
CREATED:20220519T071740Z
LAST-MODIFIED:20220519T091211Z
UID:4108-1656252000-1656259200@musikschule.heidenreichstein.gv.at
SUMMARY:Open Air! 100 Jahre NÖ - Bezirksfest
DESCRIPTION:Line Up:\nPop- und Rockensemble\, Leitung Johannes Neunteufel\nPop- und Rockensemble\, Leitung Sigi Schneider\nPop-Vokalensemble Choralle\, Leitung Sonja Schneider\nSchulorchester TonArt\, Leitung Martin Kaburek\nSchülerensemble\, Leitung Václav Čurda \nSchaut vorbei\, wir freuen uns auf EUCH!! \n  \n 
URL:https://musikschule.heidenreichstein.gv.at/event/100-jahre-noe-bezirksfest/
LOCATION:Schlosspark Gmünd\, Schlossparkgasse 8\, Gmünd\, 3950\, Österreich
ATTACH;FMTTYPE=image/png:https://musikschule.heidenreichstein.gv.at/wp-content/uploads/2022/05/100_Jahre_NOE_RGB.png
END:VEVENT
END:VCALENDAR